BEGIN:VCALENDAR
VERSION:2.0
PRODID:-//MISHA - ECPv6.15.20//NONSGML v1.0//EN
CALSCALE:GREGORIAN
METHOD:PUBLISH
X-WR-CALNAME:MISHA
X-ORIGINAL-URL:https://misha.pe
X-WR-CALDESC:Eventos para MISHA
REFRESH-INTERVAL;VALUE=DURATION:PT1H
X-Robots-Tag:noindex
X-PUBLISHED-TTL:PT1H
BEGIN:VTIMEZONE
TZID:America/Lima
BEGIN:STANDARD
TZOFFSETFROM:-0500
TZOFFSETTO:-0500
TZNAME:-05
DTSTART:20240101T000000
END:STANDARD
END:VTIMEZONE
BEGIN:VEVENT
DTSTART;TZID=America/Lima:20251104T200000
DTEND;TZID=America/Lima:20251104T220000
DTSTAMP:20260421T063949
CREATED:20251030T142054Z
LAST-MODIFIED:20251030T154014Z
UID:10000038-1762286400-1762293600@misha.pe
SUMMARY:Cálculo de CTS Noviembre 2025
DESCRIPTION:Webinar GRATUITO para SUSCRIPTORES activos de REVISTA MISHA que se realizará el martes 4 de noviembre de 2025 sobre “Cálculo de CTS Noviembre 2025”.
URL:https://misha.pe/evento/calculo-cts/
CATEGORIES:Laboral
ATTACH;FMTTYPE=image/png:https://misha.pe/wp-content/uploads/2024/01/Eventos-ZOOM.png
ORGANIZER;CN="Revista Misha":MAILTO:miguel@misha.pe
LOCATION:https://misha.pe/evento/calculo-cts/
END:VEVENT
END:VCALENDAR