BEGIN:VCALENDAR
VERSION:2.0
PRODID:-//MISHA - ECPv6.15.20//NONSGML v1.0//EN
CALSCALE:GREGORIAN
METHOD:PUBLISH
X-WR-CALNAME:MISHA
X-ORIGINAL-URL:https://misha.pe
X-WR-CALDESC:Eventos para MISHA
REFRESH-INTERVAL;VALUE=DURATION:PT1H
X-Robots-Tag:noindex
X-PUBLISHED-TTL:PT1H
BEGIN:VTIMEZONE
TZID:America/Lima
BEGIN:STANDARD
TZOFFSETFROM:-0500
TZOFFSETTO:-0500
TZNAME:-05
DTSTART:20240101T000000
END:STANDARD
END:VTIMEZONE
BEGIN:VEVENT
DTSTART;TZID=America/Lima:20250505T203000
DTEND;TZID=America/Lima:20250505T220000
DTSTAMP:20260422T051004
CREATED:20250430T210529Z
LAST-MODIFIED:20250514T120057Z
UID:10000061-1746477000-1746482400@misha.pe
SUMMARY:Compensación por Tiempo de Servicios 2025
DESCRIPTION:Webinar GRATUITO para SUSCRIPTORES activos de REVISTA MISHA que se realizará el lunes 5 de mayo de 2025 sobre “Compensación por Tiempo de Servicios 2025”.
URL:https://misha.pe/evento/compensacion-por-tiempo-de-servicios-2025/
LOCATION:Noticiero Contable\, Pasaje Martir Olaya 129 Oficina 1607\, Miraflores\, Lima\, 15047
CATEGORIES:Webinar
ATTACH;FMTTYPE=image/png:https://misha.pe/wp-content/uploads/2024/01/Eventos-ZOOM.png
ORGANIZER;CN="Revista Misha":MAILTO:miguel@misha.pe
END:VEVENT
BEGIN:VEVENT
DTSTART;TZID=America/Lima:20250514T203000
DTEND;TZID=America/Lima:20250514T220000
DTSTAMP:20260422T051004
CREATED:20250430T210957Z
LAST-MODIFIED:20250514T115925Z
UID:10000062-1747254600-1747260000@misha.pe
SUMMARY:Saldo a favor Materia del Beneficio
DESCRIPTION:Webinar GRATUITO para SUSCRIPTORES activos de REVISTA MISHA que se realizará el miércoles 14 de mayo de 2025 sobre “Saldo a favor Materia del Beneficio”.
URL:https://misha.pe/evento/saldo-a-favor-materia-del-beneficio/
LOCATION:Noticiero Contable\, Pasaje Martir Olaya 129 Oficina 1607\, Miraflores\, Lima\, 15047
CATEGORIES:Webinar
ATTACH;FMTTYPE=image/png:https://misha.pe/wp-content/uploads/2024/01/Eventos-ZOOM.png
ORGANIZER;CN="Revista Misha":MAILTO:miguel@misha.pe
END:VEVENT
BEGIN:VEVENT
DTSTART;TZID=America/Lima:20250519T203000
DTEND;TZID=America/Lima:20250519T220000
DTSTAMP:20260422T051004
CREATED:20250430T211207Z
LAST-MODIFIED:20250516T023217Z
UID:10000063-1747686600-1747692000@misha.pe
SUMMARY:Rentas de Segunda Categoría
DESCRIPTION:Webinar GRATUITO para SUSCRIPTORES activos de REVISTA MISHA que se realizará el lunes 19 de mayo de 2025 sobre “Rentas de Segunda Categoría”.
URL:https://misha.pe/evento/rentas-de-segunda-categoria/
LOCATION:Noticiero Contable\, Pasaje Martir Olaya 129 Oficina 1607\, Miraflores\, Lima\, 15047
CATEGORIES:Webinar
ATTACH;FMTTYPE=image/png:https://misha.pe/wp-content/uploads/2024/01/Eventos-ZOOM.png
ORGANIZER;CN="Revista Misha":MAILTO:miguel@misha.pe
END:VEVENT
BEGIN:VEVENT
DTSTART;TZID=America/Lima:20250526T203000
DTEND;TZID=America/Lima:20250526T220000
DTSTAMP:20260422T051004
CREATED:20250430T211509Z
LAST-MODIFIED:20250516T023340Z
UID:10000064-1748291400-1748296800@misha.pe
SUMMARY:NIC 2 Inventarios
DESCRIPTION:Webinar GRATUITO para SUSCRIPTORES activos de REVISTA MISHA que se realizará el lunes 26 de mayo de 2025 sobre “NIC 2 Inventarios”.
URL:https://misha.pe/evento/nic-2-inventarios-2/
LOCATION:Noticiero Contable\, Pasaje Martir Olaya 129 Oficina 1607\, Miraflores\, Lima\, 15047
CATEGORIES:Webinar
ATTACH;FMTTYPE=image/png:https://misha.pe/wp-content/uploads/2024/01/Eventos-ZOOM.png
ORGANIZER;CN="Revista Misha":MAILTO:miguel@misha.pe
END:VEVENT
END:VCALENDAR