BEGIN:VCALENDAR
VERSION:2.0
PRODID:-//MISHA - ECPv6.15.20//NONSGML v1.0//EN
CALSCALE:GREGORIAN
METHOD:PUBLISH
X-WR-CALNAME:MISHA
X-ORIGINAL-URL:https://misha.pe
X-WR-CALDESC:Eventos para MISHA
REFRESH-INTERVAL;VALUE=DURATION:PT1H
X-Robots-Tag:noindex
X-PUBLISHED-TTL:PT1H
BEGIN:VTIMEZONE
TZID:America/Lima
BEGIN:STANDARD
TZOFFSETFROM:-0500
TZOFFSETTO:-0500
TZNAME:-05
DTSTART:20240101T000000
END:STANDARD
END:VTIMEZONE
BEGIN:VEVENT
DTSTART;TZID=America/Lima:20250603T200000
DTEND;TZID=America/Lima:20250603T223000
DTSTAMP:20260422T015745
CREATED:20250514T225740Z
LAST-MODIFIED:20250526T163944Z
UID:10000065-1748980800-1748989800@misha.pe
SUMMARY:Contabilidad en Empresas de Servicios de Transportes - Parte I
DESCRIPTION:Webinar GRATUITO para SUSCRIPTORES activos de REVISTA MISHA que se realizará el martes 3 de junio de 2025 sobre “Contabilidad en Empresas de Servicios de Transportes”.
URL:https://misha.pe/evento/contabilidad-empresas-servicios-transportes/
LOCATION:Noticiero Contable\, Pasaje Martir Olaya 129 Oficina 1607\, Miraflores\, Lima\, 15047
CATEGORIES:Webinar
ATTACH;FMTTYPE=image/png:https://misha.pe/wp-content/uploads/2024/01/Eventos-ZOOM.png
ORGANIZER;CN="Revista Misha":MAILTO:miguel@misha.pe
END:VEVENT
BEGIN:VEVENT
DTSTART;TZID=America/Lima:20250605T200000
DTEND;TZID=America/Lima:20250605T223000
DTSTAMP:20260422T015745
CREATED:20250514T230053Z
LAST-MODIFIED:20250526T164207Z
UID:10000066-1749153600-1749162600@misha.pe
SUMMARY:Contabilidad en Empresas de Servicios de Transportes - Parte II
DESCRIPTION:Webinar GRATUITO para SUSCRIPTORES activos de REVISTA MISHA que se realizará el jueves 5 de junio de 2025 sobre “Contabilidad en Empresas de Servicios de Transportes”.
URL:https://misha.pe/evento/contabilidad-en-empresas-de-servicios-de-transportes-parte-ii/
LOCATION:Noticiero Contable\, Pasaje Martir Olaya 129 Oficina 1607\, Miraflores\, Lima\, 15047
CATEGORIES:Webinar
ATTACH;FMTTYPE=image/png:https://misha.pe/wp-content/uploads/2024/01/Eventos-ZOOM.png
ORGANIZER;CN="Revista Misha":MAILTO:miguel@misha.pe
END:VEVENT
BEGIN:VEVENT
DTSTART;TZID=America/Lima:20250618T200000
DTEND;TZID=America/Lima:20250618T223000
DTSTAMP:20260422T015745
CREATED:20250530T141551Z
LAST-MODIFIED:20250618T212243Z
UID:10000067-1750276800-1750285800@misha.pe
SUMMARY:Curso de Planilla de Construcción Civil – Parte I
DESCRIPTION:Webinar GRATUITO para SUSCRIPTORES activos de REVISTA MISHA que se realizará el miércoles 18 de junio de 2025 sobre “Curso de Planilla de Construcción Civil”.
URL:https://misha.pe/evento/curso-de-planilla-de-construccion-civil-parte-i/
LOCATION:Noticiero Contable\, Pasaje Martir Olaya 129 Oficina 1607\, Miraflores\, Lima\, 15047
CATEGORIES:Webinar
ATTACH;FMTTYPE=image/png:https://misha.pe/wp-content/uploads/2024/01/Eventos-ZOOM.png
ORGANIZER;CN="Revista Misha":MAILTO:miguel@misha.pe
END:VEVENT
BEGIN:VEVENT
DTSTART;TZID=America/Lima:20250620T203000
DTEND;TZID=America/Lima:20250620T220000
DTSTAMP:20260422T015745
CREATED:20250530T141948Z
LAST-MODIFIED:20250618T212259Z
UID:10000068-1750451400-1750456800@misha.pe
SUMMARY:Curso de Planilla de Construcción Civil – Parte II
DESCRIPTION:Webinar GRATUITO para SUSCRIPTORES activos de REVISTA MISHA que se realizará el viernes 20 de junio de 2025 sobre “Curso de Planilla de Construcción Civil”.
URL:https://misha.pe/evento/curso-de-planilla-de-construccion-civil-parte-ii/
LOCATION:Noticiero Contable\, Pasaje Martir Olaya 129 Oficina 1607\, Miraflores\, Lima\, 15047
CATEGORIES:Webinar
ATTACH;FMTTYPE=image/png:https://misha.pe/wp-content/uploads/2024/01/Eventos-ZOOM.png
ORGANIZER;CN="Revista Misha":MAILTO:miguel@misha.pe
END:VEVENT
END:VCALENDAR