BEGIN:VCALENDAR
VERSION:2.0
PRODID:-//MISHA - ECPv6.15.20//NONSGML v1.0//EN
CALSCALE:GREGORIAN
METHOD:PUBLISH
X-WR-CALNAME:MISHA
X-ORIGINAL-URL:https://misha.pe
X-WR-CALDESC:Eventos para MISHA
REFRESH-INTERVAL;VALUE=DURATION:PT1H
X-Robots-Tag:noindex
X-PUBLISHED-TTL:PT1H
BEGIN:VTIMEZONE
TZID:America/Lima
BEGIN:STANDARD
TZOFFSETFROM:-0500
TZOFFSETTO:-0500
TZNAME:-05
DTSTART:20240101T000000
END:STANDARD
END:VTIMEZONE
BEGIN:VEVENT
DTSTART;TZID=America/Lima:20250909T203000
DTEND;TZID=America/Lima:20250909T223000
DTSTAMP:20260421T181522
CREATED:20250901T090546Z
LAST-MODIFIED:20250902T125545Z
UID:10000079-1757449800-1757457000@misha.pe
SUMMARY:Como llevar Libro Diario Simplificado
DESCRIPTION:Webinar GRATUITO para SUSCRIPTORES activos de REVISTA MISHA que se realizará el martes 9 de setiembre de 2025 sobre “Libro Diario Formato Simplificado”.
URL:https://misha.pe/evento/libro-diario-simplificado/
LOCATION:Noticiero Contable\, Pasaje Martir Olaya 129 Oficina 1607\, Miraflores\, Lima\, 15047
CATEGORIES:Webinar
ATTACH;FMTTYPE=image/png:https://misha.pe/wp-content/uploads/2024/01/Eventos-ZOOM.png
ORGANIZER;CN="Revista Misha":MAILTO:miguel@misha.pe
END:VEVENT
BEGIN:VEVENT
DTSTART;TZID=America/Lima:20250916T203000
DTEND;TZID=America/Lima:20250916T223000
DTSTAMP:20260421T181523
CREATED:20250901T085126Z
LAST-MODIFIED:20250910T054034Z
UID:10000076-1758054600-1758061800@misha.pe
SUMMARY:Guía Práctica para la Aplicación NPIF - Parte I
DESCRIPTION:Webinar GRATUITO para SUSCRIPTORES activos de REVISTA MISHA que se realizará el martes 16 de setiembre de 2025 sobre “Guía Práctica para la Aplicación de las Normas Peruanas de Información Financiera”.
URL:https://misha.pe/evento/guia-practica-para-aplicacion-npif-parte-i/
LOCATION:Noticiero Contable\, Pasaje Martir Olaya 129 Oficina 1607\, Miraflores\, Lima\, 15047
CATEGORIES:Webinar
ATTACH;FMTTYPE=image/png:https://misha.pe/wp-content/uploads/2024/01/Eventos-ZOOM.png
ORGANIZER;CN="Revista Misha":MAILTO:miguel@misha.pe
END:VEVENT
BEGIN:VEVENT
DTSTART;TZID=America/Lima:20250929T203000
DTEND;TZID=America/Lima:20250929T223000
DTSTAMP:20260421T181523
CREATED:20250901T085557Z
LAST-MODIFIED:20250924T073343Z
UID:10000077-1759177800-1759185000@misha.pe
SUMMARY:Guía Práctica para la Aplicación NPIF – Parte II
DESCRIPTION:Webinar GRATUITO para SUSCRIPTORES activos de REVISTA MISHA que se realizará el Lunes 29 de setiembre de 2025 sobre “Guía Práctica para la Aplicación de las Normas Peruanas de Información Financiera”.
URL:https://misha.pe/evento/guia-practica-para-aplicacion-npif-parte-ii/
LOCATION:Noticiero Contable\, Pasaje Martir Olaya 129 Oficina 1607\, Miraflores\, Lima\, 15047
CATEGORIES:Webinar
ATTACH;FMTTYPE=image/png:https://misha.pe/wp-content/uploads/2024/01/Eventos-ZOOM.png
ORGANIZER;CN="Revista Misha":MAILTO:miguel@misha.pe
END:VEVENT
BEGIN:VEVENT
DTSTART;TZID=America/Lima:20250930T203000
DTEND;TZID=America/Lima:20250930T223000
DTSTAMP:20260421T181523
CREATED:20250901T085816Z
LAST-MODIFIED:20250915T200903Z
UID:10000078-1759264200-1759271400@misha.pe
SUMMARY:Guía Práctica para la Aplicación NPIF – Parte III
DESCRIPTION:Webinar GRATUITO para SUSCRIPTORES activos de REVISTA MISHA que se realizará el martes 30 de setiembre de 2025 sobre “Guía Práctica para la Aplicación de las Normas Peruanas de Información Financiera”.
URL:https://misha.pe/evento/guia-practica-para-aplicacion-npif-parte-iii/
LOCATION:Noticiero Contable\, Pasaje Martir Olaya 129 Oficina 1607\, Miraflores\, Lima\, 15047
CATEGORIES:Webinar
ATTACH;FMTTYPE=image/png:https://misha.pe/wp-content/uploads/2024/01/Eventos-ZOOM.png
ORGANIZER;CN="Revista Misha":MAILTO:miguel@misha.pe
END:VEVENT
END:VCALENDAR