BEGIN:VCALENDAR
VERSION:2.0
PRODID:-//MISHA - ECPv6.15.20//NONSGML v1.0//EN
CALSCALE:GREGORIAN
METHOD:PUBLISH
X-ORIGINAL-URL:https://misha.pe
X-WR-CALDESC:Eventos para MISHA
REFRESH-INTERVAL;VALUE=DURATION:PT1H
X-Robots-Tag:noindex
X-PUBLISHED-TTL:PT1H
BEGIN:VTIMEZONE
TZID:America/Lima
BEGIN:STANDARD
TZOFFSETFROM:-0500
TZOFFSETTO:-0500
TZNAME:-05
DTSTART:20240101T000000
END:STANDARD
END:VTIMEZONE
BEGIN:VEVENT
DTSTART;TZID=America/Lima:20250722T203000
DTEND;TZID=America/Lima:20250722T220000
DTSTAMP:20260422T020300
CREATED:20250630T140317Z
LAST-MODIFIED:20250722T061108Z
UID:10000071-1753216200-1753221600@misha.pe
SUMMARY:Régimen Laboral Agrario 2025
DESCRIPTION:Webinar Virtual: Laboral GRATUITO para SUSCRIPTORES activos de REVISTA MISHA que se realizará el Martes 22 de Julio de 2025 sobre “Régimen Laboral Agrario 2025”.
URL:https://misha.pe/evento/regimen-laboral-agrario/
LOCATION:Noticiero Contable\, Pasaje Martir Olaya 129 Oficina 1607\, Miraflores\, Lima\, 15047
CATEGORIES:Webinar
ATTACH;FMTTYPE=image/png:https://misha.pe/wp-content/uploads/2024/01/Eventos-ZOOM.png
ORGANIZER;CN="Revista Misha":MAILTO:miguel@misha.pe
END:VEVENT
END:VCALENDAR