BEGIN:VCALENDAR
VERSION:2.0
PRODID:-//MISHA - ECPv6.15.20//NONSGML v1.0//EN
CALSCALE:GREGORIAN
METHOD:PUBLISH
X-WR-CALNAME:MISHA
X-ORIGINAL-URL:https://misha.pe
X-WR-CALDESC:Eventos para MISHA
REFRESH-INTERVAL;VALUE=DURATION:PT1H
X-Robots-Tag:noindex
X-PUBLISHED-TTL:PT1H
BEGIN:VTIMEZONE
TZID:America/Lima
BEGIN:STANDARD
TZOFFSETFROM:-0500
TZOFFSETTO:-0500
TZNAME:-05
DTSTART:20240101T000000
END:STANDARD
END:VTIMEZONE
BEGIN:VEVENT
DTSTART;TZID=America/Lima:20250805T203000
DTEND;TZID=America/Lima:20250805T213000
DTSTAMP:20260421T211652
CREATED:20250722T054729Z
LAST-MODIFIED:20250728T171143Z
UID:10000072-1754425800-1754429400@misha.pe
SUMMARY:Tratamiento Tributario de los Servicios Digitales [Facebook\, Zoom\, Google]
DESCRIPTION:Webinar Virtual: Tributario GRATUITO para SUSCRIPTORES activos de REVISTA MISHA que se realizará el Martes 5 de Agosto de 2025 sobre “Tratamiento Tributario de los Servicios Digitales”.
URL:https://misha.pe/evento/tratamiento-tributario-de-los-servicios-digitales/
LOCATION:Noticiero Contable\, Pasaje Martir Olaya 129 Oficina 1607\, Miraflores\, Lima\, 15047
CATEGORIES:Webinar
ATTACH;FMTTYPE=image/png:https://misha.pe/wp-content/uploads/2024/01/Eventos-ZOOM.png
ORGANIZER;CN="Revista Misha":MAILTO:miguel@misha.pe
END:VEVENT
END:VCALENDAR