BEGIN:VCALENDAR
VERSION:2.0
PRODID:-//MISHA - ECPv6.15.20//NONSGML v1.0//EN
CALSCALE:GREGORIAN
METHOD:PUBLISH
X-WR-CALNAME:MISHA
X-ORIGINAL-URL:https://misha.pe
X-WR-CALDESC:Eventos para MISHA
REFRESH-INTERVAL;VALUE=DURATION:PT1H
X-Robots-Tag:noindex
X-PUBLISHED-TTL:PT1H
BEGIN:VTIMEZONE
TZID:America/Lima
BEGIN:STANDARD
TZOFFSETFROM:-0500
TZOFFSETTO:-0500
TZNAME:-05
DTSTART:20240101T000000
END:STANDARD
END:VTIMEZONE
BEGIN:VEVENT
DTSTART;TZID=America/Lima:20250826T203000
DTEND;TZID=America/Lima:20250826T220000
DTSTAMP:20260421T211735
CREATED:20250722T055456Z
LAST-MODIFIED:20250820T045716Z
UID:10000075-1756240200-1756245600@misha.pe
SUMMARY:Aprende hacer correcciones en el SIRE SUNAT
DESCRIPTION:Webinar Virtual: Tributario GRATUITO para SUSCRIPTORES activos de REVISTA MISHA que se realizará el Martes 26 de Agosto de 2025 sobre “Aprende hacer correcciones en el SIRE SUNAT”.
URL:https://misha.pe/evento/aprende-hacer-correcciones-en-el-sire-sunat/
LOCATION:Noticiero Contable\, Pasaje Martir Olaya 129 Oficina 1607\, Miraflores\, Lima\, 15047
CATEGORIES:Webinar
ATTACH;FMTTYPE=image/png:https://misha.pe/wp-content/uploads/2024/01/Eventos-ZOOM.png
ORGANIZER;CN="Revista Misha":MAILTO:miguel@misha.pe
END:VEVENT
END:VCALENDAR