BEGIN:VCALENDAR
VERSION:2.0
PRODID:-//MISHA - ECPv6.15.20//NONSGML v1.0//EN
CALSCALE:GREGORIAN
METHOD:PUBLISH
X-WR-CALNAME:MISHA
X-ORIGINAL-URL:https://misha.pe
X-WR-CALDESC:Eventos para MISHA
REFRESH-INTERVAL;VALUE=DURATION:PT1H
X-Robots-Tag:noindex
X-PUBLISHED-TTL:PT1H
BEGIN:VTIMEZONE
TZID:America/Lima
BEGIN:STANDARD
TZOFFSETFROM:-0500
TZOFFSETTO:-0500
TZNAME:-05
DTSTART:20240101T000000
END:STANDARD
END:VTIMEZONE
BEGIN:VEVENT
DTSTART;TZID=America/Lima:20260113T200000
DTEND;TZID=America/Lima:20260113T220000
DTSTAMP:20260421T101141
CREATED:20251231T210258Z
LAST-MODIFIED:20251231T210519Z
UID:10000094-1768334400-1768341600@misha.pe
SUMMARY:SIRE SUNAT 2026 – Intermedio
DESCRIPTION:Webinar GRATUITO para SUSCRIPTORES activos de REVISTA MISHA que se realizará el martes 13 de enero de 2026 sobre “SIRE SUNAT 2026 – Intermedio”.
URL:https://misha.pe/evento/sire-sunat-2026-intermedio/
CATEGORIES:Tributario
ATTACH;FMTTYPE=image/png:https://misha.pe/wp-content/uploads/2024/01/Eventos-ZOOM.png
ORGANIZER;CN="Revista Misha":MAILTO:miguel@misha.pe
LOCATION:https://misha.pe/evento/sire-sunat-2026-intermedio/
END:VEVENT
BEGIN:VEVENT
DTSTART;TZID=America/Lima:20260106T200000
DTEND;TZID=America/Lima:20260106T220000
DTSTAMP:20260421T101141
CREATED:20251231T210052Z
LAST-MODIFIED:20251231T210120Z
UID:10000093-1767729600-1767736800@misha.pe
SUMMARY:SIRE SUNAT 2026 – Básico
DESCRIPTION:Webinar GRATUITO para SUSCRIPTORES activos de REVISTA MISHA que se realizará el martes 6 de enero de 2026 sobre “SIRE SUNAT 2026 – Básico”.
URL:https://misha.pe/evento/sire-sunat-2026-basico/
CATEGORIES:Tributario
ATTACH;FMTTYPE=image/png:https://misha.pe/wp-content/uploads/2024/01/Eventos-ZOOM.png
ORGANIZER;CN="Revista Misha":MAILTO:miguel@misha.pe
LOCATION:https://misha.pe/evento/sire-sunat-2026-basico/
END:VEVENT
BEGIN:VEVENT
DTSTART;TZID=America/Lima:20251223T200000
DTEND;TZID=America/Lima:20251223T220000
DTSTAMP:20260421T101141
CREATED:20251211T033450Z
LAST-MODIFIED:20251211T033603Z
UID:10000092-1766520000-1766527200@misha.pe
SUMMARY:Impuesto Diferido y Posiciones Fiscales - Parte II
DESCRIPTION:Webinar GRATUITO para SUSCRIPTORES activos de REVISTA MISHA que se realizará el martes 23 de diciembre de 2025 sobre “Impuesto Diferido y Posiciones Fiscales – Parte II”.
URL:https://misha.pe/evento/impuesto-diferido-posiciones-fiscales-ii/
CATEGORIES:Contable
ATTACH;FMTTYPE=image/png:https://misha.pe/wp-content/uploads/2024/01/Eventos-ZOOM.png
ORGANIZER;CN="Revista Misha":MAILTO:miguel@misha.pe
LOCATION:https://misha.pe/evento/impuesto-diferido-posiciones-fiscales-ii/
END:VEVENT
BEGIN:VEVENT
DTSTART;TZID=America/Lima:20251222T200000
DTEND;TZID=America/Lima:20251222T220000
DTSTAMP:20260421T101141
CREATED:20251211T033232Z
LAST-MODIFIED:20251211T033643Z
UID:10000091-1766433600-1766440800@misha.pe
SUMMARY:Impuesto Diferido y Posiciones Fiscales - Parte I
DESCRIPTION:Webinar GRATUITO para SUSCRIPTORES activos de REVISTA MISHA que se realizará el lunes 22 de diciembre de 2025 sobre “Impuesto Diferido y Posiciones Fiscales – Parte I”.
URL:https://misha.pe/evento/impuesto-diferido-posiciones-fiscales-i/
CATEGORIES:Contable
ATTACH;FMTTYPE=image/png:https://misha.pe/wp-content/uploads/2024/01/Eventos-ZOOM.png
ORGANIZER;CN="Revista Misha":MAILTO:miguel@misha.pe
LOCATION:https://misha.pe/evento/impuesto-diferido-posiciones-fiscales-i/
END:VEVENT
BEGIN:VEVENT
DTSTART;TZID=America/Lima:20251216T200000
DTEND;TZID=America/Lima:20251216T220000
DTSTAMP:20260421T101141
CREATED:20251126T184455Z
LAST-MODIFIED:20251211T033811Z
UID:10000089-1765915200-1765922400@misha.pe
SUMMARY:Cierre Tributario 2025 - Parte II
DESCRIPTION:Webinar GRATUITO para SUSCRIPTORES activos de REVISTA MISHA que se realizará el martes 16 de diciembre de 2025 sobre “Cierre Tributario 2025 – Parte II”.
URL:https://misha.pe/evento/cierre-tributario-2025-parte-ii/
CATEGORIES:Tributario
ATTACH;FMTTYPE=image/png:https://misha.pe/wp-content/uploads/2024/01/Eventos-ZOOM.png
ORGANIZER;CN="Revista Misha":MAILTO:miguel@misha.pe
LOCATION:https://misha.pe/evento/cierre-tributario-2025-parte-ii/
END:VEVENT
BEGIN:VEVENT
DTSTART;TZID=America/Lima:20251215T200000
DTEND;TZID=America/Lima:20251215T220000
DTSTAMP:20260421T101141
CREATED:20251126T183656Z
LAST-MODIFIED:20251211T034705Z
UID:10000088-1765828800-1765836000@misha.pe
SUMMARY:Cierre Tributario 2025 - Parte I
DESCRIPTION:Webinar GRATUITO para SUSCRIPTORES activos de REVISTA MISHA que se realizará el lunes 15 de diciembre de 2025 sobre “Cierre Tributario 2025 – Parte I”.
URL:https://misha.pe/evento/cierre-tributario-2025-parte-i/
CATEGORIES:Tributario
ATTACH;FMTTYPE=image/png:https://misha.pe/wp-content/uploads/2024/01/Eventos-ZOOM.png
ORGANIZER;CN="Revista Misha":MAILTO:miguel@misha.pe
LOCATION:https://misha.pe/evento/cierre-tributario-2025-parte-i/
END:VEVENT
BEGIN:VEVENT
DTSTART;TZID=America/Lima:20251204T200000
DTEND;TZID=America/Lima:20251204T220000
DTSTAMP:20260421T101141
CREATED:20251127T060444Z
LAST-MODIFIED:20251127T060539Z
UID:10000090-1764878400-1764885600@misha.pe
SUMMARY:Cálculo de Gratificación Diciembre 2025
DESCRIPTION:Webinar GRATUITO para SUSCRIPTORES activos de REVISTA MISHA que se realizará el jueves 4 de diciembre de 2025 sobre “Cálculo de Gratificación Diciembre 2025”.
URL:https://misha.pe/evento/calculo-de-gratificacion-diciembre-2025/
CATEGORIES:Laboral
ATTACH;FMTTYPE=image/png:https://misha.pe/wp-content/uploads/2024/01/Eventos-ZOOM.png
ORGANIZER;CN="Revista Misha":MAILTO:miguel@misha.pe
LOCATION:https://misha.pe/evento/calculo-de-gratificacion-diciembre-2025/
END:VEVENT
BEGIN:VEVENT
DTSTART;TZID=America/Lima:20251126T200000
DTEND;TZID=America/Lima:20251126T220000
DTSTAMP:20260421T101141
CREATED:20251030T155117Z
LAST-MODIFIED:20251125T230244Z
UID:10000087-1764187200-1764194400@misha.pe
SUMMARY:Gestión Tributaria de las Importaciones – Parte II
DESCRIPTION:Webinar GRATUITO para SUSCRIPTORES activos de REVISTA MISHA que se realizará el martes 25 de noviembre de 2025 sobre “Gestión Tributaria de las Importaciones – Parte II”.
URL:https://misha.pe/evento/gestion-tributaria-de-las-importaciones-parte-ii/
CATEGORIES:Tributario
ATTACH;FMTTYPE=image/png:https://misha.pe/wp-content/uploads/2024/01/Eventos-ZOOM.png
ORGANIZER;CN="Revista Misha":MAILTO:miguel@misha.pe
LOCATION:https://misha.pe/evento/gestion-tributaria-de-las-importaciones-parte-ii/
END:VEVENT
BEGIN:VEVENT
DTSTART;TZID=America/Lima:20251118T200000
DTEND;TZID=America/Lima:20251118T220000
DTSTAMP:20260421T101141
CREATED:20251030T154625Z
LAST-MODIFIED:20251030T154743Z
UID:10000086-1763496000-1763503200@misha.pe
SUMMARY:Gestión Tributaria de las Importaciones - Parte I
DESCRIPTION:Webinar GRATUITO para SUSCRIPTORES activos de REVISTA MISHA que se realizará el martes 18 de noviembre de 2025 sobre “Gestión Tributaria de las Importaciones – Parte I”.
URL:https://misha.pe/evento/gestion-tributaria-de-las-importaciones-parte-i/
CATEGORIES:Tributario
ATTACH;FMTTYPE=image/png:https://misha.pe/wp-content/uploads/2024/01/Eventos-ZOOM.png
ORGANIZER;CN="Revista Misha":MAILTO:miguel@misha.pe
LOCATION:https://misha.pe/evento/gestion-tributaria-de-las-importaciones-parte-i/
END:VEVENT
BEGIN:VEVENT
DTSTART;TZID=America/Lima:20251111T200000
DTEND;TZID=America/Lima:20251111T210000
DTSTAMP:20260421T101141
CREATED:20251030T153901Z
LAST-MODIFIED:20251030T153901Z
UID:10000085-1762891200-1762894800@misha.pe
SUMMARY:Rentas de Primera Categoría
DESCRIPTION:Webinar GRATUITO para SUSCRIPTORES activos de REVISTA MISHA que se realizará el martes 11 de noviembre de 2025 sobre “Rentas de Primera Categoría ”.
URL:https://misha.pe/evento/rentas-de-primera-categoria/
CATEGORIES:Tributario
ATTACH;FMTTYPE=image/png:https://misha.pe/wp-content/uploads/2024/01/Eventos-ZOOM.png
ORGANIZER;CN="Revista Misha":MAILTO:miguel@misha.pe
LOCATION:https://misha.pe/evento/rentas-de-primera-categoria/
END:VEVENT
BEGIN:VEVENT
DTSTART;TZID=America/Lima:20251104T200000
DTEND;TZID=America/Lima:20251104T220000
DTSTAMP:20260421T101141
CREATED:20251030T142054Z
LAST-MODIFIED:20251030T154014Z
UID:10000038-1762286400-1762293600@misha.pe
SUMMARY:Cálculo de CTS Noviembre 2025
DESCRIPTION:Webinar GRATUITO para SUSCRIPTORES activos de REVISTA MISHA que se realizará el martes 4 de noviembre de 2025 sobre “Cálculo de CTS Noviembre 2025”.
URL:https://misha.pe/evento/calculo-cts/
CATEGORIES:Laboral
ATTACH;FMTTYPE=image/png:https://misha.pe/wp-content/uploads/2024/01/Eventos-ZOOM.png
ORGANIZER;CN="Revista Misha":MAILTO:miguel@misha.pe
LOCATION:https://misha.pe/evento/calculo-cts/
END:VEVENT
BEGIN:VEVENT
DTSTART;TZID=America/Lima:20251029T200000
DTEND;TZID=America/Lima:20251029T220000
DTSTAMP:20260421T101141
CREATED:20251029T031202Z
LAST-MODIFIED:20251029T031202Z
UID:10000084-1761768000-1761775200@misha.pe
SUMMARY:Contratos Tributarios para SUNAT - Parte II
DESCRIPTION:Webinar GRATUITO para SUSCRIPTORES activos de REVISTA MISHA que se realizará el miércoles 29 de octubre de 2025 sobre “Contratos Tributarios para SUNAT [Comodato – Mandato]”.
URL:https://misha.pe/evento/contratos-tributarios-para-sunat-parte-ii/
CATEGORIES:Tributario
ATTACH;FMTTYPE=image/png:https://misha.pe/wp-content/uploads/2024/01/Eventos-ZOOM.png
ORGANIZER;CN="Revista Misha":MAILTO:miguel@misha.pe
LOCATION:https://misha.pe/evento/contratos-tributarios-para-sunat-parte-ii/
END:VEVENT
BEGIN:VEVENT
DTSTART;TZID=America/Lima:20251028T200000
DTEND;TZID=America/Lima:20251028T220000
DTSTAMP:20260421T101141
CREATED:20251001T023405Z
LAST-MODIFIED:20251029T031549Z
UID:10000082-1761681600-1761688800@misha.pe
SUMMARY:Contratos Tributarios para SUNAT - Parte I
DESCRIPTION:Webinar GRATUITO para SUSCRIPTORES activos de REVISTA MISHA que se realizará el martes 28 de octubre de 2025 sobre “Contratos Tributarios para SUNAT [Comodato – Mandato]”.
URL:https://misha.pe/evento/contratos-tributarios-para-sunat/
CATEGORIES:Tributario
ATTACH;FMTTYPE=image/png:https://misha.pe/wp-content/uploads/2024/01/Eventos-ZOOM.png
ORGANIZER;CN="Revista Misha":MAILTO:miguel@misha.pe
LOCATION:https://misha.pe/evento/contratos-tributarios-para-sunat/
END:VEVENT
BEGIN:VEVENT
DTSTART;TZID=America/Lima:20251021T203000
DTEND;TZID=America/Lima:20251021T223000
DTSTAMP:20260421T101141
CREATED:20251001T022214Z
LAST-MODIFIED:20251010T124348Z
UID:10000081-1761078600-1761085800@misha.pe
SUMMARY:Tributación para Empresas Constructoras
DESCRIPTION:Webinar GRATUITO para SUSCRIPTORES activos de REVISTA MISHA que se realizará el martes 21 de octubre de 2025 sobre “Tributación para Empresas Constructoras”.
URL:https://misha.pe/evento/tributacion-empresas-constructoras/
CATEGORIES:Tributario
ATTACH;FMTTYPE=image/png:https://misha.pe/wp-content/uploads/2024/01/Eventos-ZOOM.png
ORGANIZER;CN="Revista Misha":MAILTO:miguel@misha.pe
LOCATION:https://misha.pe/evento/tributacion-empresas-constructoras/
END:VEVENT
BEGIN:VEVENT
DTSTART;TZID=America/Lima:20251014T203000
DTEND;TZID=America/Lima:20251014T213000
DTSTAMP:20260421T101141
CREATED:20251010T110831Z
LAST-MODIFIED:20251010T114732Z
UID:10000083-1760473800-1760477400@misha.pe
SUMMARY:Multa por Libros Contables 2025
DESCRIPTION:Webinar GRATUITO para SUSCRIPTORES activos de REVISTA MISHA que se realizará el martes 14 de octubre de 2025 sobre “Multa por Libros Contables 2025”.
URL:https://misha.pe/evento/multa-por-libros-contables/
CATEGORIES:Tributario
ATTACH;FMTTYPE=image/png:https://misha.pe/wp-content/uploads/2024/01/Eventos-ZOOM.png
ORGANIZER;CN="Revista Misha":MAILTO:miguel@misha.pe
LOCATION:https://misha.pe/evento/multa-por-libros-contables/
END:VEVENT
BEGIN:VEVENT
DTSTART;TZID=America/Lima:20251007T203000
DTEND;TZID=America/Lima:20251007T213000
DTSTAMP:20260421T101141
CREATED:20251001T021645Z
LAST-MODIFIED:20251002T031829Z
UID:10000080-1759869000-1759872600@misha.pe
SUMMARY:Beneficiario Final 2025
DESCRIPTION:Webinar GRATUITO para SUSCRIPTORES activos de REVISTA MISHA que se realizará el martes 7 de octubre de 2025 sobre “Beneficiario Final 2025”.
URL:https://misha.pe/evento/beneficiario-final-2025/
LOCATION:Noticiero Contable\, Pasaje Martir Olaya 129 Oficina 1607\, Miraflores\, Lima\, 15047
CATEGORIES:Webinar
ATTACH;FMTTYPE=image/png:https://misha.pe/wp-content/uploads/2024/01/Eventos-ZOOM.png
ORGANIZER;CN="Revista Misha":MAILTO:miguel@misha.pe
END:VEVENT
BEGIN:VEVENT
DTSTART;TZID=America/Lima:20250930T203000
DTEND;TZID=America/Lima:20250930T223000
DTSTAMP:20260421T101141
CREATED:20250901T085816Z
LAST-MODIFIED:20250915T200903Z
UID:10000078-1759264200-1759271400@misha.pe
SUMMARY:Guía Práctica para la Aplicación NPIF – Parte III
DESCRIPTION:Webinar GRATUITO para SUSCRIPTORES activos de REVISTA MISHA que se realizará el martes 30 de setiembre de 2025 sobre “Guía Práctica para la Aplicación de las Normas Peruanas de Información Financiera”.
URL:https://misha.pe/evento/guia-practica-para-aplicacion-npif-parte-iii/
LOCATION:Noticiero Contable\, Pasaje Martir Olaya 129 Oficina 1607\, Miraflores\, Lima\, 15047
CATEGORIES:Webinar
ATTACH;FMTTYPE=image/png:https://misha.pe/wp-content/uploads/2024/01/Eventos-ZOOM.png
ORGANIZER;CN="Revista Misha":MAILTO:miguel@misha.pe
END:VEVENT
BEGIN:VEVENT
DTSTART;TZID=America/Lima:20250929T203000
DTEND;TZID=America/Lima:20250929T223000
DTSTAMP:20260421T101141
CREATED:20250901T085557Z
LAST-MODIFIED:20250924T073343Z
UID:10000077-1759177800-1759185000@misha.pe
SUMMARY:Guía Práctica para la Aplicación NPIF – Parte II
DESCRIPTION:Webinar GRATUITO para SUSCRIPTORES activos de REVISTA MISHA que se realizará el Lunes 29 de setiembre de 2025 sobre “Guía Práctica para la Aplicación de las Normas Peruanas de Información Financiera”.
URL:https://misha.pe/evento/guia-practica-para-aplicacion-npif-parte-ii/
LOCATION:Noticiero Contable\, Pasaje Martir Olaya 129 Oficina 1607\, Miraflores\, Lima\, 15047
CATEGORIES:Webinar
ATTACH;FMTTYPE=image/png:https://misha.pe/wp-content/uploads/2024/01/Eventos-ZOOM.png
ORGANIZER;CN="Revista Misha":MAILTO:miguel@misha.pe
END:VEVENT
BEGIN:VEVENT
DTSTART;TZID=America/Lima:20250916T203000
DTEND;TZID=America/Lima:20250916T223000
DTSTAMP:20260421T101141
CREATED:20250901T085126Z
LAST-MODIFIED:20250910T054034Z
UID:10000076-1758054600-1758061800@misha.pe
SUMMARY:Guía Práctica para la Aplicación NPIF - Parte I
DESCRIPTION:Webinar GRATUITO para SUSCRIPTORES activos de REVISTA MISHA que se realizará el martes 16 de setiembre de 2025 sobre “Guía Práctica para la Aplicación de las Normas Peruanas de Información Financiera”.
URL:https://misha.pe/evento/guia-practica-para-aplicacion-npif-parte-i/
LOCATION:Noticiero Contable\, Pasaje Martir Olaya 129 Oficina 1607\, Miraflores\, Lima\, 15047
CATEGORIES:Webinar
ATTACH;FMTTYPE=image/png:https://misha.pe/wp-content/uploads/2024/01/Eventos-ZOOM.png
ORGANIZER;CN="Revista Misha":MAILTO:miguel@misha.pe
END:VEVENT
BEGIN:VEVENT
DTSTART;TZID=America/Lima:20250909T203000
DTEND;TZID=America/Lima:20250909T223000
DTSTAMP:20260421T101141
CREATED:20250901T090546Z
LAST-MODIFIED:20250902T125545Z
UID:10000079-1757449800-1757457000@misha.pe
SUMMARY:Como llevar Libro Diario Simplificado
DESCRIPTION:Webinar GRATUITO para SUSCRIPTORES activos de REVISTA MISHA que se realizará el martes 9 de setiembre de 2025 sobre “Libro Diario Formato Simplificado”.
URL:https://misha.pe/evento/libro-diario-simplificado/
LOCATION:Noticiero Contable\, Pasaje Martir Olaya 129 Oficina 1607\, Miraflores\, Lima\, 15047
CATEGORIES:Webinar
ATTACH;FMTTYPE=image/png:https://misha.pe/wp-content/uploads/2024/01/Eventos-ZOOM.png
ORGANIZER;CN="Revista Misha":MAILTO:miguel@misha.pe
END:VEVENT
BEGIN:VEVENT
DTSTART;TZID=America/Lima:20250826T203000
DTEND;TZID=America/Lima:20250826T220000
DTSTAMP:20260421T101141
CREATED:20250722T055456Z
LAST-MODIFIED:20250820T045716Z
UID:10000075-1756240200-1756245600@misha.pe
SUMMARY:Aprende hacer correcciones en el SIRE SUNAT
DESCRIPTION:Webinar Virtual: Tributario GRATUITO para SUSCRIPTORES activos de REVISTA MISHA que se realizará el Martes 26 de Agosto de 2025 sobre “Aprende hacer correcciones en el SIRE SUNAT”.
URL:https://misha.pe/evento/aprende-hacer-correcciones-en-el-sire-sunat/
LOCATION:Noticiero Contable\, Pasaje Martir Olaya 129 Oficina 1607\, Miraflores\, Lima\, 15047
CATEGORIES:Webinar
ATTACH;FMTTYPE=image/png:https://misha.pe/wp-content/uploads/2024/01/Eventos-ZOOM.png
ORGANIZER;CN="Revista Misha":MAILTO:miguel@misha.pe
END:VEVENT
BEGIN:VEVENT
DTSTART;TZID=America/Lima:20250819T203000
DTEND;TZID=America/Lima:20250819T220000
DTSTAMP:20260421T101141
CREATED:20250722T055214Z
LAST-MODIFIED:20250806T062551Z
UID:10000074-1755635400-1755640800@misha.pe
SUMMARY:Tributación de las Instituciones Educativas Privadas - Parte II
DESCRIPTION:Webinar Virtual: Tributario GRATUITO para SUSCRIPTORES activos de REVISTA MISHA que se realizará el Martes 19 de Agosto de 2025 sobre “Tributación de las Instituciones Educativas Privadas”.
URL:https://misha.pe/evento/tributacion-de-las-instituciones-educativas-privadas-parte-ii/
LOCATION:Noticiero Contable\, Pasaje Martir Olaya 129 Oficina 1607\, Miraflores\, Lima\, 15047
CATEGORIES:Webinar
ATTACH;FMTTYPE=image/png:https://misha.pe/wp-content/uploads/2024/01/Eventos-ZOOM.png
ORGANIZER;CN="Revista Misha":MAILTO:miguel@misha.pe
END:VEVENT
BEGIN:VEVENT
DTSTART;TZID=America/Lima:20250812T203000
DTEND;TZID=America/Lima:20250812T220000
DTSTAMP:20260421T101141
CREATED:20250722T055010Z
LAST-MODIFIED:20250806T062428Z
UID:10000073-1755030600-1755036000@misha.pe
SUMMARY:Tributación de las Instituciones Educativas Privadas - Parte I
DESCRIPTION:Webinar Virtual: Tributario GRATUITO para SUSCRIPTORES activos de REVISTA MISHA que se realizará el Martes 12 de Agosto de 2025 sobre “Tributación de las Instituciones Educativas Privadas”.
URL:https://misha.pe/evento/tributacion-de-las-instituciones-educativas-privadas/
LOCATION:Noticiero Contable\, Pasaje Martir Olaya 129 Oficina 1607\, Miraflores\, Lima\, 15047
CATEGORIES:Webinar
ATTACH;FMTTYPE=image/png:https://misha.pe/wp-content/uploads/2024/01/Eventos-ZOOM.png
ORGANIZER;CN="Revista Misha":MAILTO:miguel@misha.pe
END:VEVENT
BEGIN:VEVENT
DTSTART;TZID=America/Lima:20250805T203000
DTEND;TZID=America/Lima:20250805T213000
DTSTAMP:20260421T101141
CREATED:20250722T054729Z
LAST-MODIFIED:20250728T171143Z
UID:10000072-1754425800-1754429400@misha.pe
SUMMARY:Tratamiento Tributario de los Servicios Digitales [Facebook\, Zoom\, Google]
DESCRIPTION:Webinar Virtual: Tributario GRATUITO para SUSCRIPTORES activos de REVISTA MISHA que se realizará el Martes 5 de Agosto de 2025 sobre “Tratamiento Tributario de los Servicios Digitales”.
URL:https://misha.pe/evento/tratamiento-tributario-de-los-servicios-digitales/
LOCATION:Noticiero Contable\, Pasaje Martir Olaya 129 Oficina 1607\, Miraflores\, Lima\, 15047
CATEGORIES:Webinar
ATTACH;FMTTYPE=image/png:https://misha.pe/wp-content/uploads/2024/01/Eventos-ZOOM.png
ORGANIZER;CN="Revista Misha":MAILTO:miguel@misha.pe
END:VEVENT
BEGIN:VEVENT
DTSTART;TZID=America/Lima:20250722T203000
DTEND;TZID=America/Lima:20250722T220000
DTSTAMP:20260421T101141
CREATED:20250630T140317Z
LAST-MODIFIED:20250722T061108Z
UID:10000071-1753216200-1753221600@misha.pe
SUMMARY:Régimen Laboral Agrario 2025
DESCRIPTION:Webinar Virtual: Laboral GRATUITO para SUSCRIPTORES activos de REVISTA MISHA que se realizará el Martes 22 de Julio de 2025 sobre “Régimen Laboral Agrario 2025”.
URL:https://misha.pe/evento/regimen-laboral-agrario/
LOCATION:Noticiero Contable\, Pasaje Martir Olaya 129 Oficina 1607\, Miraflores\, Lima\, 15047
CATEGORIES:Webinar
ATTACH;FMTTYPE=image/png:https://misha.pe/wp-content/uploads/2024/01/Eventos-ZOOM.png
ORGANIZER;CN="Revista Misha":MAILTO:miguel@misha.pe
END:VEVENT
BEGIN:VEVENT
DTSTART;TZID=America/Lima:20250715T203000
DTEND;TZID=America/Lima:20250715T220000
DTSTAMP:20260421T101141
CREATED:20250630T140159Z
LAST-MODIFIED:20250709T212835Z
UID:10000070-1752611400-1752616800@misha.pe
SUMMARY:Planilla de Remuneraciones
DESCRIPTION:Webinar GRATUITO para SUSCRIPTORES activos de REVISTA MISHA que se realizará el martes 15 de julio de 2025 sobre “Planilla de Remuneraciones”.
URL:https://misha.pe/evento/planilla-de-remuneraciones/
LOCATION:Noticiero Contable\, Pasaje Martir Olaya 129 Oficina 1607\, Miraflores\, Lima\, 15047
CATEGORIES:Webinar
ATTACH;FMTTYPE=image/png:https://misha.pe/wp-content/uploads/2024/01/Eventos-ZOOM.png
ORGANIZER;CN="Revista Misha":MAILTO:miguel@misha.pe
END:VEVENT
BEGIN:VEVENT
DTSTART;TZID=America/Lima:20250708T203000
DTEND;TZID=America/Lima:20250708T220000
DTSTAMP:20260421T101141
CREATED:20250630T140018Z
LAST-MODIFIED:20250702T045524Z
UID:10000069-1752006600-1752012000@misha.pe
SUMMARY:T-Registro y PDT Plame
DESCRIPTION:Webinar GRATUITO para SUSCRIPTORES activos de REVISTA MISHA que se realizará el martes 8 de julio de 2025 sobre “T-Registro y PDT Plame”.
URL:https://misha.pe/evento/t-registro-y-pdt-plame/
LOCATION:Noticiero Contable\, Pasaje Martir Olaya 129 Oficina 1607\, Miraflores\, Lima\, 15047
CATEGORIES:Webinar
ATTACH;FMTTYPE=image/png:https://misha.pe/wp-content/uploads/2024/01/Eventos-ZOOM.png
ORGANIZER;CN="Revista Misha":MAILTO:miguel@misha.pe
END:VEVENT
BEGIN:VEVENT
DTSTART;TZID=America/Lima:20250701T203000
DTEND;TZID=America/Lima:20250701T220000
DTSTAMP:20260421T101141
CREATED:20250625T130935Z
LAST-MODIFIED:20250625T145246Z
UID:10000042-1751401800-1751407200@misha.pe
SUMMARY:Cálculo de Gratificaciones Julio 2025
DESCRIPTION:Webinar GRATUITO para SUSCRIPTORES activos de REVISTA MISHA que se realizará el martes 1 de julio de 2025 sobre “Cálculo de Gratificaciones Julio 2025”.
URL:https://misha.pe/evento/calculo-de-gratificaciones/
LOCATION:Noticiero Contable\, Pasaje Martir Olaya 129 Oficina 1607\, Miraflores\, Lima\, 15047
CATEGORIES:Webinar
ATTACH;FMTTYPE=image/png:https://misha.pe/wp-content/uploads/2024/01/Eventos-ZOOM.png
ORGANIZER;CN="Revista Misha":MAILTO:miguel@misha.pe
END:VEVENT
BEGIN:VEVENT
DTSTART;TZID=America/Lima:20250620T203000
DTEND;TZID=America/Lima:20250620T220000
DTSTAMP:20260421T101141
CREATED:20250530T141948Z
LAST-MODIFIED:20250618T212259Z
UID:10000068-1750451400-1750456800@misha.pe
SUMMARY:Curso de Planilla de Construcción Civil – Parte II
DESCRIPTION:Webinar GRATUITO para SUSCRIPTORES activos de REVISTA MISHA que se realizará el viernes 20 de junio de 2025 sobre “Curso de Planilla de Construcción Civil”.
URL:https://misha.pe/evento/curso-de-planilla-de-construccion-civil-parte-ii/
LOCATION:Noticiero Contable\, Pasaje Martir Olaya 129 Oficina 1607\, Miraflores\, Lima\, 15047
CATEGORIES:Webinar
ATTACH;FMTTYPE=image/png:https://misha.pe/wp-content/uploads/2024/01/Eventos-ZOOM.png
ORGANIZER;CN="Revista Misha":MAILTO:miguel@misha.pe
END:VEVENT
BEGIN:VEVENT
DTSTART;TZID=America/Lima:20250618T200000
DTEND;TZID=America/Lima:20250618T223000
DTSTAMP:20260421T101141
CREATED:20250530T141551Z
LAST-MODIFIED:20250618T212243Z
UID:10000067-1750276800-1750285800@misha.pe
SUMMARY:Curso de Planilla de Construcción Civil – Parte I
DESCRIPTION:Webinar GRATUITO para SUSCRIPTORES activos de REVISTA MISHA que se realizará el miércoles 18 de junio de 2025 sobre “Curso de Planilla de Construcción Civil”.
URL:https://misha.pe/evento/curso-de-planilla-de-construccion-civil-parte-i/
LOCATION:Noticiero Contable\, Pasaje Martir Olaya 129 Oficina 1607\, Miraflores\, Lima\, 15047
CATEGORIES:Webinar
ATTACH;FMTTYPE=image/png:https://misha.pe/wp-content/uploads/2024/01/Eventos-ZOOM.png
ORGANIZER;CN="Revista Misha":MAILTO:miguel@misha.pe
END:VEVENT
END:VCALENDAR