BEGIN:VCALENDAR
VERSION:2.0
PRODID:-//MISHA - ECPv6.15.20//NONSGML v1.0//EN
CALSCALE:GREGORIAN
METHOD:PUBLISH
X-WR-CALNAME:MISHA
X-ORIGINAL-URL:https://misha.pe
X-WR-CALDESC:Eventos para MISHA
REFRESH-INTERVAL;VALUE=DURATION:PT1H
X-Robots-Tag:noindex
X-PUBLISHED-TTL:PT1H
BEGIN:VTIMEZONE
TZID:America/Lima
BEGIN:STANDARD
TZOFFSETFROM:-0500
TZOFFSETTO:-0500
TZNAME:-05
DTSTART:20230101T000000
END:STANDARD
END:VTIMEZONE
BEGIN:VEVENT
DTSTART;TZID=America/Lima:20240304T203000
DTEND;TZID=America/Lima:20240304T213000
DTSTAMP:20260421T171739
CREATED:20240228T221113Z
LAST-MODIFIED:20240228T221113Z
UID:10000007-1709584200-1709587800@misha.pe
SUMMARY:Plataforma VIVA ESSALUD
DESCRIPTION:Webinar GRATUITO para SUSCRIPTORES activos de REVISTA MISHA que se realizará el lunes 04 de marzo de 2024 sobre “Plataforma VIVA ESSALUD”.
URL:https://misha.pe/evento/plataforma-viva-essalud/
LOCATION:Noticiero Contable\, Pasaje Martir Olaya 129 Oficina 1607\, Miraflores\, Lima\, 15047
CATEGORIES:Webinar
ATTACH;FMTTYPE=image/png:https://misha.pe/wp-content/uploads/2024/01/Eventos-ZOOM.png
ORGANIZER;CN="Revista Misha":MAILTO:miguel@misha.pe
END:VEVENT
BEGIN:VEVENT
DTSTART;TZID=America/Lima:20240226T203000
DTEND;TZID=America/Lima:20240226T220000
DTSTAMP:20260421T171739
CREATED:20240123T221911Z
LAST-MODIFIED:20240220T015928Z
UID:10000005-1708979400-1708984800@misha.pe
SUMMARY:Cierre Tributario 2023 - Parte II
DESCRIPTION:Webinar GRATUITO para SUSCRIPTORES activos de REVISTA MISHA que se realizará el lunes 26 de febrero de 2024 sobre “Cierre Tributario 2023 – Parte II”.
URL:https://misha.pe/evento/cierre-tributario-2023-parte-ii/
LOCATION:Noticiero Contable\, Pasaje Martir Olaya 129 Oficina 1607\, Miraflores\, Lima\, 15047
CATEGORIES:Webinar
ATTACH;FMTTYPE=image/png:https://misha.pe/wp-content/uploads/2024/01/Eventos-ZOOM.png
ORGANIZER;CN="Revista Misha":MAILTO:miguel@misha.pe
END:VEVENT
BEGIN:VEVENT
DTSTART;TZID=America/Lima:20240219T203000
DTEND;TZID=America/Lima:20240219T220000
DTSTAMP:20260421T171739
CREATED:20240123T221408Z
LAST-MODIFIED:20240220T015812Z
UID:10000004-1708374600-1708380000@misha.pe
SUMMARY:Cierre Tributario 2023 - Parte I
DESCRIPTION:Webinar GRATUITO para SUSCRIPTORES activos de REVISTA MISHA que se realizará el lunes 19 de febrero de 2024 sobre “Cierre Tributario 2023 – Parte I”.
URL:https://misha.pe/evento/cierre-tributario-2023-parte-i/
LOCATION:Noticiero Contable\, Pasaje Martir Olaya 129 Oficina 1607\, Miraflores\, Lima\, 15047
CATEGORIES:Webinar
ATTACH;FMTTYPE=image/png:https://misha.pe/wp-content/uploads/2024/01/Eventos-ZOOM.png
ORGANIZER;CN="Revista Misha":MAILTO:miguel@misha.pe
END:VEVENT
BEGIN:VEVENT
DTSTART;TZID=America/Lima:20240212T200000
DTEND;TZID=America/Lima:20240212T220000
DTSTAMP:20260421T171739
CREATED:20240123T213255Z
LAST-MODIFIED:20240123T220746Z
UID:10000003-1707768000-1707775200@misha.pe
SUMMARY:Sujeto Sin Capacidad Operativa
DESCRIPTION:Webinar GRATUITO para SUSCRIPTORES activos de REVISTA MISHA que se realizará el lunes 12 de febrero de 2024 sobre “Sujeto Sin Capacidad Operativa 2024”.
URL:https://misha.pe/evento/sujeto-sin-capacidad-operativa/
LOCATION:Noticiero Contable\, Pasaje Martir Olaya 129 Oficina 1607\, Miraflores\, Lima\, 15047
CATEGORIES:Webinar
ATTACH;FMTTYPE=image/png:https://misha.pe/wp-content/uploads/2024/01/Eventos-ZOOM.png
ORGANIZER;CN="Revista Misha":MAILTO:miguel@misha.pe
END:VEVENT
BEGIN:VEVENT
DTSTART;TZID=America/Lima:20240205T203000
DTEND;TZID=America/Lima:20240205T213000
DTSTAMP:20260421T171739
CREATED:20240201T002459Z
LAST-MODIFIED:20240201T002459Z
UID:10000006-1707165000-1707168600@misha.pe
SUMMARY:Perfiles de Cumplimiento Tributario
DESCRIPTION:Webinar GRATUITO para SUSCRIPTORES activos de REVISTA MISHA que se realizará el lunes 05 de febrero de 2024 sobre “Perfiles de Cumplimiento Tributario”.
URL:https://misha.pe/evento/perfiles-cumplimiento-tributario/
LOCATION:Noticiero Contable\, Pasaje Martir Olaya 129 Oficina 1607\, Miraflores\, Lima\, 15047
CATEGORIES:Webinar
ATTACH;FMTTYPE=image/png:https://misha.pe/wp-content/uploads/2024/01/Eventos-ZOOM.png
ORGANIZER;CN="Revista Misha":MAILTO:miguel@misha.pe
END:VEVENT
BEGIN:VEVENT
DTSTART;TZID=America/Lima:20240129T203000
DTEND;TZID=America/Lima:20240129T213000
DTSTAMP:20260421T171739
CREATED:20240116T122023Z
LAST-MODIFIED:20240123T203431Z
UID:10000002-1706560200-1706563800@misha.pe
SUMMARY:Traduciendo la NIC 12
DESCRIPTION:Webinar GRATUITO para SUSCRIPTORES activos de REVISTA MISHA que se realizará el lunes 29 de enero de 2024 sobre “Traduciendo la NIC 12”.
URL:https://misha.pe/evento/traduciendo-nic-12/
LOCATION:Noticiero Contable\, Pasaje Martir Olaya 129 Oficina 1607\, Miraflores\, Lima\, 15047
CATEGORIES:Webinar
ATTACH;FMTTYPE=image/png:https://misha.pe/wp-content/uploads/2024/01/Eventos-ZOOM.png
ORGANIZER;CN="Revista Misha":MAILTO:miguel@misha.pe
END:VEVENT
BEGIN:VEVENT
DTSTART;TZID=America/Lima:20240122T203000
DTEND;TZID=America/Lima:20240122T213000
DTSTAMP:20260421T171739
CREATED:20240116T115953Z
LAST-MODIFIED:20240116T121406Z
UID:10000001-1705955400-1705959000@misha.pe
SUMMARY:Impuesto a la Renta Diferido – NIC 12
DESCRIPTION:Webinar GRATUITO para SUSCRIPTORES activos de REVISTA MISHA que se realizará el lunes 22 de enero de 2024 sobre “Impuesto a la Renta Diferido – NIC 12”.
URL:https://misha.pe/evento/impuesto-renta-diferido-nic-12/
LOCATION:Noticiero Contable\, Pasaje Martir Olaya 129 Oficina 1607\, Miraflores\, Lima\, 15047
CATEGORIES:Webinar
ATTACH;FMTTYPE=image/png:https://misha.pe/wp-content/uploads/2024/01/Eventos-ZOOM.png
ORGANIZER;CN="Revista Misha":MAILTO:miguel@misha.pe
END:VEVENT
END:VCALENDAR